Workbook

Sheet metadata
A1: FERC Project | B1: Penobscot Mills (P-2458)
A2: Licensee | B2: Great Lakes Hydro America, LLC
A3: Consultant | B3: Kleinschmidt Associates
A4: Study | B4: Water Quality/ Aquatic Habitat
A5: Study Site | B5: Millinocket Stream downstream of Millinocket Lake Storage Dam
A6: Data Collection Date | B6: 44798
A7: Calculated Gate Discharge at Dam (cfs) | B7: 64
A11: Sheet | B11: Description
A12: Upper Transect (T1) | B12: Transect data from Millinocket Stream upper transect approximately 200 feet downstream of dam
A13: Lower Transect (T2) | B13: Transect data from Millinocket Stream lower transect approximately 1 mile downstream of dam
A14: Summary Tables and Figures | B14: Summary info for wetted width, depth, velocity, and substrates, bed profile elevation figures
A16: Acronyms | B16: Definition
A17: HI | B17: Height of Instrument
A18: WSEL FS | B18: Water Surface Elevation Foresight
A19: FS | B19: Foresight
A20: SB | B20: Small Boulder
A21: LB | B21: Large Boulder
A22: CO | B22: Cobble
A23: LG | B23: Large Gravel
A24: SG | B24: Small Gravel
A26: Column Name | B26: Data Description | C26: Units
A27: Sheet: Upper Transect (T1)
A28: Station | B28: Station location along transect line | C28: feet
A29: FS | B29: Foresight (stadia rod reading) of each station | C29: feet
A30: Bed Profile Elevation | B30: Elevation of streambed relative to height of instrument (HI-FS = Bed Profile Elevation) | C30: feet
A31: Depth | B31: Water depth at each station | C31: feet
A32: WSEL | B32: Water surface elevation at each station relative to height of instrument | C32: feet
A33: Bankfull Elevation | B33: Bankfull elevation relative to height of instrument | C33: feet
A34: Velocity | B34: Measured mean column velocity at each station | C34: feet per second
A35: Description | B35: Text desciption for station location (edge of water, bankfull etc.) | C35: Not applicable
A36: Substrate | B36: Substrate type at each station | C36: Not applicable
A37: Sub Code | B37: Numeric substrate code for each station | C37: Not applicable
A38: Habitat Metric | B38: Calculated habitat metrics from transect data (wetted width etc.) | C38: Not applicable
A39: Value | B39: Value of calculated habitat metric | C39: Variable (listed on sheet)
B41: Cross Sectional Area Calculations for the bed profile, bank full, and 60 cfs (Columns P to AC)
A42: Station (ft) (X) | B42: Station location along transect line | C42: feet
A43: Bed Elevation (ft) (Y) | B43: Elevation of streambed relative to height of instrument | C43: feet
A44: X1*Y2 | B44: Cross Sectional Area calculated using Station 1 and Elevation 2 of each "rectangle" along the transect | C44: feet^2
A45: X2*Y1 | B45: Cross Sectional Area calculated using Station 2 and Elevation 1 of each "rectangle" along the transect | C45: feet^2
A46: Sheet: Lower Transect (T2)
...

Sheet Upper Transect (T1)
A1: HI | B1: 102.81 | D1: WSEL FS | E1: 5.62 | P1: Cross Sectional Area Calcs
A2: Station | B2: FS | C2: Bed Profile Elevation | D2: Depth | E2: WSEL | F2: Bankful Elevation | G2: Velocity | H2: Description | I2: Substrate | J2: Sub Code | L2: Habitat Metric Metric | M2: Value | P2: Station (ft) (X) | Q2: Bed Elevation (ft) (Y) | R2: X1*Y2 | S2: X2*Y1 | U2: Station (ft) (X) | V2: Bed Elevation (ft) (Y) | W2: X1*Y2 | X2: X2*Y1 | Z2: Station (ft) (X) | AA2: Bed Elevation (ft) (Y) | AB2: X1*Y2 | AC2: X2*Y1
A3: 1 | B3: 3.05 | C3: =B$1-B3 -> 99.76 | D3: 0 | G3: 0 | L3: bankfull width (feet) | M3: ='Upper Transect (T1)'!A35-'Upper Transect (T1)'!A8 -> 60
A4: 2.6 | B4: 3.95 | C4: =B$1-B4 -> 98.86 | D4: 0 | G4: 0 | L4: wetted width (feet) | M4: =A34-A10 -> 54 | P4: Full Bed Profile | U4: BANKFULL XS Area | Z4: 60 CFS Cross Sectional Area
A5: 6 | B5: 4.26 | C5: =B$1-B5 -> 98.55 | D5: 0 | G5: 0 | L5: percent wetted | M5: =(M4/M3)*100 -> 90 | P5: =A5 -> 6 | Q5: =C5 -> 98.55 | R5: =P5*Q6 -> 585 | S5: =Q5*P6 -> 985.5
A6: 10 | B6: 5.31 | C6: =B$1-B6 -> 97.5 | D6: 0 | G6: 0 | P6: =A6 -> 10 | Q6: =C6 -> 97.5 | R6: =P6*Q7 -> 979.8 | S6: =Q6*P7 -> 1365
A7: 14 | B7: 4.83 | C7: =B$1-B7 -> 97.98 | D7: 0 | G7: 0 | P7: =A7 -> 14 | Q7: =C7 -> 97.98 | R7: =P7*Q8 -> 1371.44 | S7: =Q7*P8 -> 1665.66
A8: 17 | B8: 4.85 | C8: =B$1-B8 -> 97.96 | D8: 0 | F8: =(C8+C35)/2 -> 97.985 | G8: 0 | H8: Bankfull | P8: =A8 -> 17 | Q8: =C8 -> 97.96 | R8: =P8*Q9 -> 1655.29 | S8: =Q8*P9 -> 1920.016 | T8: Bankfull | U8: =P8 -> 17 | V8: =Q8 -> 97.96 | W8: =U8*V9 -> 1655.29 | X8: =V8*U9 -> 1920.016
A9: 19.6 | B9: 5.44 | C9: =B$1-B9 -> 97.37 | D9: 0 | G9: 0 | P9: =A9 -> 19.6 | Q9: =C9 -> 97.37 | R9: =P9*Q10 -> 1905.512 | S9: =Q9*P10 -> 2044.77 | U9: =P9 -> 19.6 | V9: =Q9 -> 97.37 | W9: =U9*V10 -> 1905.512 | X9: =V9*U10 -> 2044.77
A10: 21 | B10: 5.59 | C10: =B$1-B10 -> 97.22 | D10: 0 | G10: 0 | H10: Right Edge of Water | I10: SB | J10: 1 | P10: =A10 -> 21 | Q10: =C10 -> 97.22 | R10: =P10*Q11 -> 2027.55 | S10: =Q10*P11 -> 2333.28 | T10: Measured Q Edge | U10: =P10 -> 21 | V10: =Q10 -> 97.22 | W10: =U10*V11 -> 2027.55 | X10: =V10*U11 -> 2333.28 | Z10: =U10 -> 21 | AA10: =V10 -> 97.22 | AB10: =Z10*AA11 -> 2027.55 | AC10: =AA10*Z11 -> 2333.28
A11: 24 | B11: 6.26 | C11: =B$1-B11 -> 96.55 | D11: 0.6 | G11: 0.47 | I11: SB | J11: 1 | P11: =A11 -> 24 | Q11: =C11 -> 96.55 | R11: =P11*Q12 -> 2315.04 | S11: =Q11*P12 -> 2606.85 | U11: =P11 -> 24 | V11: =Q11 -> 96.55 | W11: =U11*V12 -> 2315.04 | X11: =V11*U12 -> 2606.85 | Z11: =U11 -> 24 | AA11: =V11 -> 96.55 | AB11: =Z11*AA12 -> 2315.04 | AC11: =AA11*Z12 -> 2606.85
A12: 27 | B12: 6.35 | C12: =B$1-B12 -> 96.46 | D12: 0.75 | G12: 0.09 | I12: SB | J12: 1 | P12: =A12 -> 27 | Q12: =C12 -> 96.46 | R12: =P12*Q13 -> 2623.59 | S12: =Q12*P13 -> 2749.11 | U12: =P12 -> 27 | V12: =Q12 -> 96.46 | W12: =U12*V13 -> 2623.59 | X12: =V12*U13 -> 2749.11 | Z12: =U12 -> 27 | AA12: =V12 -> 96.46 | AB12: =Z12*AA13 -> 2623.59 | AC12: =AA12*Z13 -> 2749.11
A13: 28.5 | B13: 5.64 | C13: =B$1-B13 -> 97.17 | D13: 0.1 | G13: 0.84 | I13: SB | J13: 1 | P13: =A13 -> 28.5 | Q13: =C13 -> 97.17 | R13: =P13*Q14 -> 2755.95 | S13: =Q13*P14 -> 3012.27 | U13: =P13 -> 28.5 | V13: =Q13 -> 97.17 | W13: =U13*V14 -> 2755.95 | X13: =V13*U14 -> 3012.27 | Z13: =U13 -> 28.5 | AA13: =V13 -> 97.17 | AB13: =Z13*AA14 -> 2755.95 | AC13: =AA13*Z14 -> 3012.27
A14: 31 | B14: 6.11 | C14: =B$1-B14 -> 96.7 | D14: 0.5 | G14: 0.13 | I14: LB | J14: 2 | P14: =A14 -> 31 | Q14: =C14 -> 96.7 | R14: =P14*Q15 -> 2990.88 | S14: =Q14*P15 -> 3191.1 | U14: =P14 -> 31 | V14: =Q14 -> 96.7 | W14: =U14*V15 -> 2990.88 | X14: =V14*U15 -> 3191.1 | Z14: =U14 -> 31 | AA14: =V14 -> 96.7 | AB14: =Z14*AA15 -> 2990.88 | AC14: =AA14*Z15 -> 3191.1
A15: 33 | B15: 6.33 | C15: =B$1-B15 -> 96.48 | D15: 0.4 | G15: 0.1 | I15: LB | J15: 2 | P15: =A15 -> 33 | Q15: =C15 -> 96.48 | R15: =P15*Q16 -> 3195.06 | S15: =Q15*P16 -> 3280.32 | U15: =P15 -> 33 | V15: =Q15 -> 96.48 | W15: =U15*V16 -> 3195.06 | X15: =V15*U16 -> 3280.32 | Z15: =U15 -> 33 | AA15: =V15 -> 96.48 | AB15: =Z15*AA16 -> 3195.06 | AC15: =AA15*Z16 -> 3280.32
A16: 34 | B16: 5.99 | C16: =B$1-B16 -> 96.82 | D16: 0.4 | G16: 0.1 | I16: LB | J16: 2 | P16: =A16 -> 34 | Q16: =C16 -> 96.82 | R16: =P16*Q17 -> 3254.14 | S16: =Q16*P17 -> 3582.34 | U16: =P16 -> 34 | V16: =Q16 -> 96.82 | W16: =U16*V17 -> 3254.14 | X16: =V16*U17 -> 3582.34 | Z16: =U16 -> 34 | AA16: =V16 -> 96.82 | AB16: =Z16*AA17 -> 3254.14 | AC16: =AA16*Z17 -> 3582.34
A17: 37 | B17: 7.1 | C17: =B$1-B17 -> 95.71 | D17: 1.2 | G17: 0.5 | I17: LB | J17: 2 | P17: =A17 -> 37 | Q17: =C17 -> 95.71 | R17: =P17*Q18 -> 3537.94 | S17: =Q17*P18 -> 3828.4 | U17: =P17 -> 37 | V17: =Q17 -> 95.71 | W17: =U17*V18 -> 3537.94 | X17: =V17*U18 -> 3828.4 | Z17: =U17 -> 37 | AA17: =V17 -> 95.71 | AB17: =Z17*AA18 -> 3537.94 | AC17: =AA17*Z18 -> 3828.4
A18: 40 | B18: 7.19 | C18: =B$1-B18 -> 95.62 | D18: 1.5 | G18: 2 | I18: SB | J18: 1 | P18: =A18 -> 40 | Q18: =C18 -> 95.62 | R18: =P18*Q19 -> 3831.2 | S18: =Q18*P19 -> 3968.23 | U18: =P18 -> 40 | V18: =Q18 -> 95.62 | W18: =U18*V19 -> 3831.2 | X18: =V18*U19 -> 3968.23 | Z18: =U18 -> 40 | AA18: =V18 -> 95.62 | AB18: =Z18*AA19 -> 3831.2 | AC18: =AA18*Z19 -> 3968.23
A19: 41.5 | B19: 7.03 | C19: =B$1-B19 -> 95.78 | D19: 1.6 | G19: 2.35 | I19: CO | J19: 3 | P19: =A19 -> 41.5 | Q19: =C19 -> 95.78 | R19: =P19*Q20 -> 3968.645 | S19: =Q19*P20 -> 4118.54 | U19: =P19 -> 41.5 | V19: =Q19 -> 95.78 | W19: =U19*V20 -> 3968.645 | X19: =V19*U20 -> 4118.54 | Z19: =U19 -> 41.5 | AA19: =V19 -> 95.78 | AB19: =Z19*AA20 -> 3968.645 | AC19: =AA19*Z20 -> 4118.54
A20: 43 | B20: 7.18 | C20: =B$1-B20 -> 95.63 | D20: 1.4 | E20: 97.22 | G20: 1.8 | I20: CO | J20: 3 | P20: =A20 -> 43 | Q20: =C20 -> 95.63 | R20: =P20*Q21 -> 4119.4 | S20: =Q20*P21 -> 4303.35 | U20: =P20 -> 43 | V20: =Q20 -> 95.63 | W20: =U20*V21 -> 4119.4 | X20: =V20*U21 -> 4303.35 | Z20: =U20 -> 43 | AA20: =V20 -> 95.63 | AB20: =Z20*AA21 -> 4119.4 | AC20: =AA20*Z21 -> 4303.35
A21: 45 | B21: 7.01 | C21: =B$1-B21 -> 95.8 | D21: 1.4 | E21: 97.22 | G21: 2.1 | I21: LG | J21: 4 | P21: =A21 -> 45 | Q21: =C21 -> 95.8 | R21: =P21*Q22 -> 4311.45 | S21: =Q21*P22 -> 4598.4 | U21: =P21 -> 45 | V21: =Q21 -> 95.8 | W21: =U21*V22 -> 4311.45 | X21: =V21*U22 -> 4598.4 | Z21: =U21 -> 45 | AA21: =V21 -> 95.8 | AB21: =Z21*AA22 -> 4311.45 | AC21: =AA21*Z22 -> 4598.4
A22: 48 | B22: 7 | C22: =B$1-B22 -> 95.81 | D22: 1.4 | E22: 97.22 | G22: 0.86 | I22: LG | J22: 4 | P22: =A22 -> 48 | Q22: =C22 -> 95.81 | R22: =P22*Q23 -> 4602.24 | S22: =Q22*P23 -> 4886.31 | U22: =P22 -> 48 | V22: =Q22 -> 95.81 | W22: =U22*V23 -> 4602.24 | X22: =V22*U23 -> 4886.31 | Z22: =U22 -> 48 | AA22: =V22 -> 95.81 | AB22: =Z22*AA23 -> 4602.24 | AC22: =AA22*Z23 -> 4886.31
A23: 51 | B23: 6.93 | C23: =B$1-B23 -> 95.88 | D23: 1.3 | E23: 97.22 | G23: 0.48 | I23: CO | J23: 3 | P23: =A23 -> 51 | Q23: =C23 -> 95.88 | R23: =P23*Q24 -> 4887.33 | S23: =Q23*P24 -> 5177.52 | U23: =P23 -> 51 | V23: =Q23 -> 95.88 | W23: =U23*V24 -> 4887.33 | X23: =V23*U24 -> 5177.52 | Z23: =U23 -> 51 | AA23: =V23 -> 95.88 | AB23: =Z23*AA24 -> 4887.33 | AC23: =AA23*Z24 -> 5177.52
A24: 54 | B24: 6.98 | C24: =B$1-B24 -> 95.83 | D24: 1.5 | E24: 97.22 | G24: 0.35 | I24: CO | J24: 3 | P24: =A24 -> 54 | Q24: =C24 -> 95.83 | R24: =P24*Q25 -> 5171.58 | S24: =Q24*P25 -> 5462.31 | U24: =P24 -> 54 | V24: =Q24 -> 95.83 | W24: =U24*V25 -> 5171.58 | X24: =V24*U25 -> 5462.31 | Z24: =U24 -> 54 | AA24: =V24 -> 95.83 | AB24: =Z24*AA25 -> 5171.58 | AC24: =AA24*Z25 -> 5462.31
A25: 57 | B25: 7.04 | C25: =B$1-B25 -> 95.77 | D25: 1.6 | E25: 97.22 | G25: 1.52 | I25: SB | J25: 1 | P25: =A25 -> 57 | Q25: =C25 -> 95.77 | R25: =P25*Q26 -> 5463.45 | S25: =Q25*P26 -> 5602.545 | U25: =P25 -> 57 | V25: =Q25 -> 95.77 | W25: =U25*V26 -> 5463.45 | X25: =V25*U26 -> 5602.545 | Z25: =U25 -> 57 | AA25: =V25 -> 95.77 | AB25: =Z25*AA26 -> 5463.45 | AC25: =AA25*Z26 -> 5602.545
A26: 58.5 | B26: 6.96 | C26: =B$1-B26 -> 95.85 | D26: 1.5 | E26: 97.22 | G26: 1.6 | I26: SB | J26: 1 | P26: =A26 -> 58.5 | Q26: =C26 -> 95.85 | R26: =P26*Q27 -> 5607.81 | S26: =Q26*P27 -> 5703.075 | U26: =P26 -> 58.5 | V26: =Q26 -> 95.85 | W26: =U26*V27 -> 5607.81 | X26: =V26*U27 -> 5703.075 | Z26: =U26 -> 58.5 | AA26: =V26 -> 95.85 | AB26: =Z26*AA27 -> 5607.81 | AC26: =AA26*Z27 -> 5703.075
A27: 59.5 | B27: 6.95 | C27: =B$1-B27 -> 95.86 | D27: 1.5 | E27: 97.22 | F27: 97.99 | G27: 2.1 | I27: SB | J27: 1 | P27: =A27 -> 59.5 | Q27: =C27 -> 95.86 | R27: =P27*Q28 -> 5723.305 | S27: =Q27*P28 -> 5847.46 | U27: =P27 -> 59.5 | V27: =Q27 -> 95.86 | W27: =U27*V28 -> 5723.305 | X27: =V27*U28 -> 5847.46 | Z27: =U27 -> 59.5 | AA27: =V27 -> 95.86 | AB27: =Z27*AA28 -> 5723.305 | AC27: =AA27*Z28 -> 5847.46
A28: 61 | B28: 6.62 | C28: =B$1-B28 -> 96.19 | D28: 1.1 | E28: 97.22 | F28: 97.99 | G28: 1.97 | I28: SB | J28: 1 | P28: =A28 -> 61 | Q28: =C28 -> 96.19 | R28: =P28*Q29 -> 5856.61 | S28: =Q28*P29 -> 6059.97 | U28: =P28 -> 61 | V28: =Q28 -> 96.19 | W28: =U28*V29 -> 5856.61 | X28: =V28*U29 -> 6059.97 | Z28: =U28 -> 61 | AA28: =V28 -> 96.19 | AB28: =Z28*AA29 -> 5856.61 | AC28: =AA28*Z29 -> 6059.97
A29: 63 | B29: 6.8 | C29: =B$1-B29 -> 96.01 | D29: 1.2 | E29: 97.22 | F29: 97.99 | G29: 1.97 | I29: SB | J29: 1 | P29: =A29 -> 63 | Q29: =C29 -> 96.01 | R29: =P29*Q30 -> 6047.37 | S29: =Q29*P30 -> 6240.65 | U29: =P29 -> 63 | V29: =Q29 -> 96.01 | W29: =U29*V30 -> 6047.37 | X29: =V29*U30 -> 6240.65 | Z29: =U29 -> 63 | AA29: =V29 -> 96.01 | AB29: =Z29*AA30 -> 6047.37 | AC29: =AA29*Z30 -> 6240.65
A30: 65 | B30: 6.82 | C30: =B$1-B30 -> 95.99 | D30: 1.2 | E30: 97.22 | F30: 97.99 | G30: 0.8 | I30: SB | J30: 1 | P30: =A30 -> 65 | Q30: =C30 -> 95.99 | R30: =P30*Q31 -> 6257.55 | S30: =Q30*P31 -> 6527.32 | U30: =P30 -> 65 | V30: =Q30 -> 95.99 | W30: =U30*V31 -> 6257.55 | X30: =V30*U31 -> 6527.32 | Z30: =U30 -> 65 | AA30: =V30 -> 95.99 | AB30: =Z30*AA31 -> 6257.55 | AC30: =AA30*Z31 -> 6527.32
A31: 68 | B31: 6.54 | C31: =B$1-B31 -> 96.27 | D31: 0.9 | E31: 97.22 | F31: 97.99 | G31: -0.04 | I31: SB | J31: 1 | P31: =A31 -> 68 | Q31: =C31 -> 96.27 | R31: =P31*Q32 -> 6578.32 | S31: =Q31*P32 -> 6738.9 | U31: =P31 -> 68 | V31: =Q31 -> 96.27 | W31: =U31*V32 -> 6578.32 | X31: =V31*U32 -> 6738.9 | Z31: =U31 -> 68 | AA31: =V31 -> 96.27 | AB31: =Z31*AA32 -> 6578.32 | AC31: =AA31*Z32 -> 6738.9
A32: 70 | B32: 6.07 | C32: =B$1-B32 -> 96.74 | D32: 0.5 | E32: 97.22 | F32: 97.99 | G32: 0 | I32: SB | J32: 1 | P32: =A32 -> 70 | Q32: =C32 -> 96.74 | R32: =P32*Q33 -> 6787.2 | S32: =Q32*P33 -> 7013.65 | U32: =P32 -> 70 | V32: =Q32 -> 96.74 | W32: =U32*V33 -> 6787.2 | X32: =V32*U33 -> 7013.65 | Z32: =U32 -> 70 | AA32: =V32 -> 96.74 | AB32: =Z32*AA33 -> 6787.2 | AC32: =AA32*Z33 -> 7013.65
A33: 72.5 | B33: 5.85 | C33: =B$1-B33 -> 96.96 | D33: 0.3 | E33: 97.22 | F33: 97.99 | G33: 0.6 | I33: LB | J33: 2 | P33: =A33 -> 72.5 | Q33: =C33 -> 96.96 | R33: =P33*Q34 -> 7048.45 | S33: =Q33*P34 -> 7272 | U33: =P33 -> 72.5 | V33: =Q33 -> 96.96 | W33: =U33*V34 -> 7048.45 | X33: =V33*U34 -> 7272 | Z33: =U33 -> 72.5 | AA33: =V33 -> 96.96 | AB33: =Z33*AA34 -> 7048.45 | AC33: =AA33*Z34 -> 7272
A34: 75 | B34: 5.59 | C34: =B$1-B34 -> 97.22 | D34: 0 | E34: 97.22 | F34: 97.99 | G34: 0 | H34: Left Edge of Water | I34: LB | J34: 2 | P34: =A34 -> 75 | Q34: =C34 -> 97.22 | R34: =P34*Q35 -> 7350.75 | S34: =Q34*P35 -> 7485.94 | T34: Measured Q Edge | U34: =P34 -> 75 | V34: =Q34 -> 97.22 | W34: =U34*V35 -> 7350.75 | X34: =V34*U35 -> 7485.94 | Z34: =U34 -> 75 | AA34: =V34 -> 97.22 | AB34: =Z34*AA35 -> 7291.5 | AC34: =AA34*Z35 -> 2041.62
A35: 77 | B35: 4.8 | C35: =B$1-B35 -> 98.01 | E35: 97.22 | F35: 97.99 | H35: Bankfull | P35: =A35 -> 77 | Q35: =C35 -> 98.01 | R35: =P35*Q36 -> 7608.37 | S35: =Q35*P36 -> 7840.8 | T35: Bankfull | U35: =P35 -> 77 | V35: =Q35 -> 98.01 | W35: =U35*V36 -> 7542.92 | X35: =V35*U36 -> 1666.17 | Z35: =Z10 -> 21 | AA35: =AA10 -> 97.22
A36: 80 | B36: 4 | C36: =B$1-B36 -> 98.81 | E36: 97.22 | F36: 97.99 | P36: =A36 -> 80 | Q36: =C36 -> 98.81 | R36: =P36*Q37 -> 7916 | S36: =Q36*P37 -> 8349.445 | U36: =U8 -> 17 | V36: =V8 -> 97.96
A37: 84.5 | B37: 3.86 | C37: =B$1-B37 -> 98.95 | D37: 0 | E37: 97.22 | F37: 97.99 | G37: 0 | P37: =A37 -> 84.5 | Q37: =C37 -> 98.95 | R37: =P37*Q38 -> 8327.475 | S37: =Q37*P38 -> 593.7
A38: 86.5 | B38: 3.34 | D38: 0 | E38: 97.22 | F38: 97.99 | G38: 0 | P38: =P5 -> 6 | Q38: =Q5 -> 98.55
E39: 97.22 | F39: 97.99
C40: Maximum | D40: =MAX(D10:D34) -> 1.6 | E40: 97.22 | F40: 97.99 | G40: =MAX(G10:G34) -> 2.35 | P40: Total Area | S40: =ABS(1/2*(SUM(R5:R37)-SUM(S5:S37))) -> 153.483 | T40: square feet | X40: =ABS(1/2*(SUM(W5:W37)-SUM(X5:X37))) -> 97.868 | Y40: square feet | AC40: =ABS(1/2*(SUM(AB5:AB37)-SUM(AC5:AC37))) -> 54.02
...

Sheet Lower Transect (T2)
A1: HI | B1: 104.58 | C1: WSEL FS | D1: 5.35 | P1: CROSS SECTIONAL AREA CALCS
A2: Station | B2: FS | C2: Bed Profile Elevation | D2: WSEL | E2: Bankfull Elevation | F2: Depth | G2: Velocity | H2: Description | I2: Substrate | J2: Sub Code | L2: Habitat Metric | M2: Value | P2: Station (ft) (X) | Q2: Bed Profile Elevation (ft) (Y) | R2: X1*Y2 | S2: X2*Y1 | U2: Station | V2: Bed Profile Elevation (ft) (Y) | W2: X1*Y2 | X2: X2*Y1 | Z2: Station | AA2: Bed Profile Elevation (ft) (Y) | AB2: X1*Y2 | AC2: X2*Y1
A3: 0 | B3: 2.91 | C3: =B$1-B3 -> 101.67 | F3: 0 | G3: 0 | L3: bankfull width (feet) | M3: =A45-A5 -> 110.1 | P3: Full Bed Profile | U3: Bank Full XS Area | Z3: 60 CFS XS Area
A4: 2 | B4: 3 | C4: =B$1-B4 -> 101.58 | L4: wetted width (feet) | M4: =A43-A7 -> 100.4 | P4: 2 | Q4: 101.58 | R4: =P4*Q5 -> 200.9 | S4: =Q4*P5 -> 487.584
A5: 4.8 | B5: 4 | C5: =B$1-B5 -> 100.58 | E5: =(C5+C45)/2 -> 100.515 | F5: 0 | G5: 0 | H5: Bankfull | L5: percent wetted | M5: =(M4/M3)*100 -> 91.189827 | P5: 4.8 | Q5: 100.45 | R5: =P5*Q6 -> 476.64 | S5: =Q5*P6 -> 582.61 | U5: 4.8 | V5: 100.45 | W5: =U5*V6 -> 476.64 | X5: =V5*U6 -> 582.61
A6: 5.8 | B6: 5.28 | C6: =B$1-B6 -> 99.3 | D6: =B$1-5.35 -> 99.23 | E6: 100.65 | F6: 0 | G6: 0 | I6: SG | J6: 5 | P6: 5.8 | Q6: 99.3 | R6: =P6*Q7 -> 575.186 | S6: =Q6*P7 -> 685.17 | U6: 5.8 | V6: 99.3 | W6: =U6*V7 -> 575.186 | X6: =V6*U7 -> 685.17
A7: 6.9 | B7: 5.41 | C7: =B$1-B7 -> 99.17 | D7: =B$1-5.35 -> 99.23 | F7: 0 | G7: 0 | H7: Right Edge of Water | I7: CO | J7: 3 | P7: 6.9 | Q7: 99.17 | R7: =P7*Q8 -> 682.203 | S7: =Q7*P8 -> 1140.455 | U7: 6.9 | V7: 99.17 | W7: =U7*V8 -> 682.203 | X7: =V7*U8 -> 1140.455 | Z7: 6.9 | AA7: 99.24 | AB7: =Z7*AA8 -> 682.203 | AC7: =AA7*Z8 -> 1141.26
A8: 11.5 | B8: 5.71 | C8: =B$1-B8 -> 98.87 | D8: =B$1-5.35 -> 99.23 | F8: 0.15 | G8: 1.75 | I8: CO | J8: 3 | P8: 11.5 | Q8: 98.87 | R8: =P8*Q9 -> 1131.14 | S8: =Q8*P9 -> 1483.05 | U8: 11.5 | V8: 98.87 | W8: =U8*V9 -> 1131.14 | X8: =V8*U9 -> 1483.05 | Z8: 11.5 | AA8: 98.87 | AB8: =Z8*AA9 -> 1131.14 | AC8: =AA8*Z9 -> 1483.05
A9: 15 | B9: 6.22 | C9: =B$1-B9 -> 98.36 | D9: =B$1-5.35 -> 99.23 | F9: 0.5 | G9: 1.88 | I9: SB | J9: 1 | P9: 15 | Q9: 98.36 | R9: =P9*Q10 -> 1472.1 | S9: =Q9*P10 -> 1770.48 | U9: 15 | V9: 98.36 | W9: =U9*V10 -> 1472.1 | X9: =V9*U10 -> 1770.48 | Z9: 15 | AA9: 98.36 | AB9: =Z9*AA10 -> 1472.1 | AC9: =AA9*Z10 -> 1770.48
A10: 18 | B10: 6.44 | C10: =B$1-B10 -> 98.14 | D10: =B$1-5.35 -> 99.23 | F10: 0.8 | G10: 2.8 | I10: LB | J10: 2 | P10: 18 | Q10: 98.14 | R10: =P10*Q11 -> 1756.98 | S10: =Q10*P11 -> 2060.94 | U10: 18 | V10: 98.14 | W10: =U10*V11 -> 1756.98 | X10: =V10*U11 -> 2060.94 | Z10: 18 | AA10: 98.14 | AB10: =Z10*AA11 -> 1756.98 | AC10: =AA10*Z11 -> 2060.94
A11: 21 | B11: 6.97 | C11: =B$1-B11 -> 97.61 | D11: =B$1-5.35 -> 99.23 | F11: 1.1 | G11: -0.02 | I11: LB | J11: 2 | P11: 21 | Q11: 97.61 | R11: =P11*Q12 -> 2049.81 | S11: =Q11*P12 -> 2196.225 | U11: 21 | V11: 97.61 | W11: =U11*V12 -> 2049.81 | X11: =V11*U12 -> 2196.225 | Z11: 21 | AA11: 97.61 | AB11: =Z11*AA12 -> 2049.81 | AC11: =AA11*Z12 -> 2196.225
A12: 22.5 | B12: 6.97 | C12: =B$1-B12 -> 97.61 | D12: =B$1-5.35 -> 99.23 | F12: 1.1 | G12: 0.75 | I12: LB | J12: 2 | P12: 22.5 | Q12: 97.61 | R12: =P12*Q13 -> 2203.65 | S12: =Q12*P13 -> 2342.64 | U12: 22.5 | V12: 97.61 | W12: =U12*V13 -> 2203.65 | X12: =V12*U13 -> 2342.64 | Z12: 22.5 | AA12: 97.61 | AB12: =Z12*AA13 -> 2203.65 | AC12: =AA12*Z13 -> 2342.64
A13: 24 | B13: 6.64 | C13: =B$1-B13 -> 97.94 | D13: =B$1-5.35 -> 99.23 | F13: 1 | G13: 0.75 | I13: SG | J13: 5 | P13: 24 | Q13: 97.94 | R13: =P13*Q14 -> 2355.84 | S13: =Q13*P14 -> 2644.38 | U13: 24 | V13: 97.94 | W13: =U13*V14 -> 2355.84 | X13: =V13*U14 -> 2644.38 | Z13: 24 | AA13: 97.94 | AB13: =Z13*AA14 -> 2355.84 | AC13: =AA13*Z14 -> 2644.38
A14: 27 | B14: 6.42 | C14: =B$1-B14 -> 98.16 | D14: =B$1-5.35 -> 99.23 | F14: 0.6 | G14: -0.08 | I14: SB | J14: 1 | P14: 27 | Q14: 98.16 | R14: =P14*Q15 -> 2654.37 | S14: =Q14*P15 -> 3003.696 | U14: 27 | V14: 98.16 | W14: =U14*V15 -> 2654.37 | X14: =V14*U15 -> 3003.696 | Z14: 27 | AA14: 98.16 | AB14: =Z14*AA15 -> 2654.37 | AC14: =AA14*Z15 -> 3003.696
A15: 30.6 | B15: 6.27 | C15: =B$1-B15 -> 98.31 | D15: =B$1-5.35 -> 99.23 | E15: 100.65 | F15: 0.6 | G15: 1.05 | I15: SB | J15: 1 | P15: 30.6 | Q15: 98.31 | R15: =P15*Q16 -> 3021.138 | S15: =Q15*P16 -> 3303.216 | U15: 30.6 | V15: 98.31 | W15: =U15*V16 -> 3021.138 | X15: =V15*U16 -> 3303.216 | Z15: 30.6 | AA15: 98.31 | AB15: =Z15*AA16 -> 3021.138 | AC15: =AA15*Z16 -> 3303.216
A16: 33.6 | B16: 5.85 | C16: =B$1-B16 -> 98.73 | D16: =B$1-5.35 -> 99.23 | E16: 100.65 | F16: 0.1 | G16: 0 | I16: SB | J16: 1 | P16: 33.6 | Q16: 98.73 | R16: =P16*Q17 -> 3326.4 | S16: =Q16*P17 -> 3830.724 | U16: 33.6 | V16: 98.73 | W16: =U16*V17 -> 3326.4 | X16: =V16*U17 -> 3830.724 | Z16: 33.6 | AA16: 98.73 | AB16: =Z16*AA17 -> 3326.4 | AC16: =AA16*Z17 -> 3830.724
A17: 38.8 | B17: 5.58 | C17: =B$1-B17 -> 99 | D17: =B$1-5.35 -> 99.23 | E17: 100.65 | F17: 0.2 | G17: 0.27 | I17: SB | J17: 1 | P17: 38.8 | Q17: 99 | R17: =P17*Q18 -> 3849.736 | S17: =Q17*P18 -> 4316.4 | U17: 38.8 | V17: 99 | W17: =U17*V18 -> 3849.736 | X17: =V17*U18 -> 4316.4 | Z17: 38.8 | AA17: 99 | AB17: =Z17*AA18 -> 3849.736 | AC17: =AA17*Z18 -> 4316.4
A18: 43.6 | B18: 5.36 | C18: =B$1-B18 -> 99.22 | D18: =B$1-5.35 -> 99.23 | E18: 100.65 | F18: 0.1 | G18: 0 | I18: SB | J18: 1 | P18: 43.6 | Q18: 99.22 | R18: =P18*Q19 -> 4319.452 | S18: =Q18*P19 -> 4663.34 | U18: 43.6 | V18: 99.22 | W18: =U18*V19 -> 4319.452 | X18: =V18*U19 -> 4663.34 | Z18: 43.6 | AA18: 99.22 | AB18: =Z18*AA19 -> 4319.452 | AC18: =AA18*Z19 -> 4663.34
A19: 47 | B19: 5.51 | C19: =B$1-B19 -> 99.07 | D19: =B$1-5.35 -> 99.23 | E19: 100.65 | F19: 0.1 | G19: 0 | I19: CO | J19: 3 | P19: 47 | Q19: 99.07 | R19: =P19*Q20 -> 4632.79 | S19: =Q19*P20 -> 4953.5 | U19: 47 | V19: 99.07 | W19: =U19*V20 -> 4632.79 | X19: =V19*U20 -> 4953.5 | Z19: 47 | AA19: 99.07 | AB19: =Z19*AA20 -> 4632.79 | AC19: =AA19*Z20 -> 4953.5
A20: 50 | B20: 6.01 | C20: =B$1-B20 -> 98.57 | D20: =B$1-5.35 -> 99.23 | E20: 100.65 | F20: 0.6 | G20: -0.13 | I20: CO | J20: 3 | P20: 50 | Q20: 98.57 | R20: =P20*Q21 -> 4929 | S20: =Q20*P21 -> 5174.925 | U20: 50 | V20: 98.57 | W20: =U20*V21 -> 4929 | X20: =V20*U21 -> 5174.925 | Z20: 50 | AA20: 98.57 | AB20: =Z20*AA21 -> 4929 | AC20: =AA20*Z21 -> 5174.925
A21: 52.5 | B21: 6 | C21: =B$1-B21 -> 98.58 | D21: =B$1-5.35 -> 99.23 | E21: 100.65 | F21: 0.65 | G21: 1.1 | I21: LG | J21: 4 | P21: 52.5 | Q21: 98.58 | R21: =P21*Q22 -> 5170.2 | S21: =Q21*P22 -> 5372.61 | U21: 52.5 | V21: 98.58 | W21: =U21*V22 -> 5170.2 | X21: =V21*U22 -> 5372.61 | Z21: 52.5 | AA21: 98.58 | AB21: =Z21*AA22 -> 5170.2 | AC21: =AA21*Z22 -> 5372.61
A22: 54.5 | B22: 6.1 | C22: =B$1-B22 -> 98.48 | D22: =B$1-5.35 -> 99.23 | E22: 100.65 | F22: 0.7 | G22: 2 | I22: LG | J22: 4 | P22: 54.5 | Q22: 98.48 | R22: =P22*Q23 -> 5412.395 | S22: =Q22*P23 -> 5514.88 | U22: 54.5 | V22: 98.48 | W22: =U22*V23 -> 5412.395 | X22: =V22*U23 -> 5514.88 | Z22: 54.5 | AA22: 98.48 | AB22: =Z22*AA23 -> 5412.395 | AC22: =AA22*Z23 -> 5514.88
A23: 56 | B23: 5.27 | C23: =B$1-B23 -> 99.31 | D23: =B$1-5.35 -> 99.23 | E23: 100.65 | F23: 0 | G23: 0 | I23: LB | J23: 2 | P23: 56 | Q23: 99.31 | R23: =P23*Q24 -> 5517.68 | S23: =Q23*P24 -> 5710.325 | U23: 56 | V23: 99.31 | W23: =U23*V24 -> 5517.68 | X23: =V23*U24 -> 5710.325 | Z23: 56 | AA23: 99.31 | AB23: =Z23*AA24 -> 5517.68 | AC23: =AA23*Z24 -> 5710.325
A24: 57.5 | B24: 6.05 | C24: =B$1-B24 -> 98.53 | D24: =B$1-5.35 -> 99.23 | E24: 100.65 | F24: 0.8 | G24: 1.6 | I24: CO | J24: 3 | P24: 57.5 | Q24: 98.53 | R24: =P24*Q25 -> 5656.85 | S24: =Q24*P25 -> 5911.8 | U24: 57.5 | V24: 98.53 | W24: =U24*V25 -> 5656.85 | X24: =V24*U25 -> 5911.8 | Z24: 57.5 | AA24: 98.53 | AB24: =Z24*AA25 -> 5656.85 | AC24: =AA24*Z25 -> 5911.8
A25: 60 | B25: 6.2 | C25: =B$1-B25 -> 98.38 | D25: =B$1-5.35 -> 99.23 | E25: 100.65 | F25: 0.95 | G25: 1.57 | I25: CO | J25: 3 | P25: 60 | Q25: 98.38 | R25: =P25*Q26 -> 5931 | S25: =Q25*P26 -> 6296.32 | U25: 60 | V25: 98.38 | W25: =U25*V26 -> 5931 | X25: =V25*U26 -> 6296.32 | Z25: 60 | AA25: 98.38 | AB25: =Z25*AA26 -> 5931 | AC25: =AA25*Z26 -> 6296.32
A26: 64 | B26: 5.73 | C26: =B$1-B26 -> 98.85 | D26: =B$1-5.35 -> 99.23 | E26: 100.65 | F26: 0.5 | G26: 0.5 | I26: LB | J26: 2 | P26: 64 | Q26: 98.85 | R26: =P26*Q27 -> 6309.12 | S26: =Q26*P27 -> 6622.95 | U26: 64 | V26: 98.85 | W26: =U26*V27 -> 6309.12 | X26: =V26*U27 -> 6622.95 | Z26: 64 | AA26: 98.85 | AB26: =Z26*AA27 -> 6309.12 | AC26: =AA26*Z27 -> 6622.95
... A42: 104 | B42: 5.92 | C42: =B$1-B42 -> 98.66 | D42: =B$1-5.35 -> 99.23 | E42: 100.65 | F42: 0.3 | G42: 1.18 | I42: SG | J42: 5 | P42: 104 | Q42: 98.66 | R42: =P42*Q43 -> 10320.96 | S42: =Q42*P43 -> 10586.218 | U42: 104 | V42: 98.66 | W42: =U42*V43 -> 10320.96 | X42: =V42*U43 -> 10586.218 | Z42: 104 | AA42: 98.66 | AB42: =Z42*AA43 -> 10320.96 | AC42: =AA42*Z43 -> 10586.218
A43: 107.3 | B43: 5.34 | C43: =B$1-B43 -> 99.24 | D43: =B$1-5.35 -> 99.23 | E43: 100.65 | F43: 0 | G43: 0 | H43: Left Edge of Water | I43: SG | J43: 5 | P43: 107.3 | Q43: 99.24 | R43: =P43*Q44 -> 10716.051 | S43: =Q43*P44 -> 11015.64 | U43: 107.3 | V43: 99.24 | W43: =U43*V44 -> 10716.051 | X43: =V43*U44 -> 11015.64 | Z43: 107.3 | AA43: 99.24 | AB43: =Z43*AA44 -> 10648.452 | AC43: =AA43*Z44 -> 684.756
A44: 111 | B44: 4.71 | C44: =B$1-B44 -> 99.87 | E44: 100.65 | F44: 0 | P44: 111 | Q44: 99.87 | R44: =P44*Q45 -> 11149.95 | S44: =Q44*P45 -> 11475.063 | U44: 111 | V44: 99.87 | W44: =U44*V45 -> 11149.95 | X44: =V44*U45 -> 11475.063 | Z44: 6.9 | AA44: 99.24
A45: 114.9 | B45: 4.13 | C45: =B$1-B45 -> 100.45 | E45: 100.65 | F45: 0 | H45: Bankfull | P45: 114.9 | Q45: 100.45 | R45: =P45*Q46 -> 11700.267 | S45: =Q45*P46 -> 11853.1 | U45: 114.9 | V45: 100.45 | W45: =U45*V46 -> 11541.705 | X45: =V45*U46 -> 482.16
A46: 118 | B46: 2.75 | C46: =B$1-B46 -> 101.83 | E46: 100.65 | P46: 118 | Q46: 101.83 | R46: =P46*Q47 -> 12188.22 | S46: =Q46*P47 -> 12514.907 | U46: 4.8 | V46: 100.45
A47: 122.9 | B47: 1.29 | C47: =B$1-B47 -> 103.29 | E47: 100.65 | F47: 0 | P47: 122.9 | Q47: 103.29 | R47: =P47*Q48 -> 12484.182 | S47: =Q47*P48 -> 206.58
D48: Maximum | F48: =MAX(F7:F43) -> 1.6 | G48: =MAX(G7:G43) -> 2.8 | P48: 2 | Q48: 101.58
D49: Average | F49: =AVERAGE(F7:F43) -> 0.63783784 | G49: =AVERAGE(G7:G43) -> 0.85
S50: =ABS(1/2*(SUM(R4:R47)-SUM(S4:S47))) -> 425.586 | X50: =ABS(1/2*(SUM(W4:W47)-SUM(X4:X47))) -> 199.6595 | AC50: =ABS(1/2*(SUM(AB4:AB47)-SUM(AC4:AC47))) -> 71.6605
AB52: ratio | AC52: =AC50/X50 -> 0.35891355

Sheet Summary Tables and Figures
A1: Habitat Metric | B1: Transect 1 (Upper) | C1: Transect 2 (Lower)
A2: Wetted width (ft) | B2: ='Upper Transect (T1)'!$M$4 -> 54 | C2: ='Lower Transect (T2)'!$M$4 -> 100.4
A3: Bankfull channel width (ft) | B3: ='Upper Transect (T1)'!$M$3 -> 60 | C3: ='Lower Transect (T2)'!$M$3 -> 110.1
A4: Wetted width - percent bankfull | B4: =B2/B3 -> 0.9 | C4: =C2/C3 -> 0.91189827
A5: Wetted Cross Sectional Area (square feet) | B5: 54.02 | C5: 71.6605
A6: Bankfull Cross Sectional Area (square feet) | B6: 97.868 | C6: 199.6595
A7: Wetted Cross Sectional Area - percent bankfull | B7: 0.55196796 | C7: 0.35891355
A8: Maximum depth (ft)* | B8: ='Upper Transect (T1)'!D40 -> 1.6 | C8: ='Lower Transect (T2)'!F48 -> 1.6
A9: Average depth (ft)* | B9: ='Upper Transect (T1)'!D41 -> 0.954 | C9: ='Lower Transect (T2)'!F49 -> 0.63783784
A10: Maximum velocity (fps)* | B10: ='Upper Transect (T1)'!G40 -> 2.35 | C10: ='Lower Transect (T2)'!G48 -> 2.8
A11: Average velocity (fps)* | B11: ='Upper Transect (T1)'!G41 -> 0.9076 | C11: =AVERAGE('Lower Transect (T2)'!G:G) -> 0.83571429
A12: * Note some maximum and average depth and velocity summary values at this site were reported incorrectly in the ISR due to an equation error. These are the corrected summary statistics.
B16: Upper Transect (T1) | K16: Lower Transect (T2)
H38: Transect 2 Wetted Width = 54-ft | I38: Distance between Station 107.3 and Station 6.9 on transect (=100.4 feet)
A39: Transect 1 Wetted Width = 54-ft | B39: Distance between Station 75 and Station 21 on transect (=54 feet) | H39: Transect 2 BF Width = 60-ft | I39: Distance between Station 114.9 and Station 4.8 on transect (=110.1 feet)
A40: Transect 1 BF Width = 60-ft | B40: Distance between Station 77 and Station 17 on transect (=60 feet) | H40: Wetted width (percent of bankfull width) | I40: 100.4/110.1= 91%
A41: Wetted width (percent of bankfull width) | B41: 54/60*100 = 90%

Sheet Transect 1 Bankfull Photos
D1: T1 River Right Bank | Q1: T1 River Left Bank

Sheet Transect 2 Bankfull Photos
G2: T2 River Right Bank | V2: T2 River Left Bank
